BEGIN:VCALENDAR
VERSION:2.0
PRODID:spatie/icalendar-generator
DESCRIPTION:Events from Welcome to Larry's List
X-WR-CALDESC:Events from Welcome to Larry's List
REFRESH-INTERVAL;VALUE=DURATION:PT1440M
X-PUBLISHED-TTL:PT1440M
BEGIN:VTIMEZONE
TZID:America/Chicago
BEGIN:STANDARD
DTSTART:20241103T020000Z
TZOFFSETFROM:-0500
TZOFFSETTO:-0600
END:STANDARD
BEGIN:DAYLIGHT
DTSTART:20250309T020000Z
TZOFFSETFROM:-0600
TZOFFSETTO:-0500
END:DAYLIGHT
BEGIN:STANDARD
DTSTART:20251102T020000Z
TZOFFSETFROM:-0500
TZOFFSETTO:-0600
END:STANDARD
END:VTIMEZONE
BEGIN:VTIMEZONE
TZID:UTC
BEGIN:STANDARD
DTSTART:20250728T141334Z
TZOFFSETFROM:+0000
TZOFFSETTO:+0000
END:STANDARD
END:VTIMEZONE
BEGIN:VEVENT
UID:14763-66
DTSTAMP:20260424T141334Z
SUMMARY:SKCC | SKS Eurosprint
LOCATION:
ORGANIZER;CN=admin:MAILTO:support@data2cash.com
DTSTART;TZID=America/Chicago:20250703T000000
DTEND;TZID=America/Chicago:20250703T010000
X-ALT-DESC;FMTTYPE=TEXT/HTML:- Jul 3: SKS Eurosprint (1st Thu) https://skcc
 group.com/
CATEGORIES:Events
URL;VALUE=URI:https://larryslist.info/mc-events/skcc-sks-eurosprint/
METHOD:PUBLISH
END:VEVENT
END:VCALENDAR