BEGIN:VCALENDAR
VERSION:2.0
PRODID:spatie/icalendar-generator
DESCRIPTION:Events from Welcome to Larry's List
X-WR-CALDESC:Events from Welcome to Larry's List
REFRESH-INTERVAL;VALUE=DURATION:PT1440M
X-PUBLISHED-TTL:PT1440M
BEGIN:VTIMEZONE
TZID:America/Chicago
BEGIN:STANDARD
DTSTART:20241103T020000Z
TZOFFSETFROM:-0500
TZOFFSETTO:-0600
END:STANDARD
BEGIN:DAYLIGHT
DTSTART:20250309T020000Z
TZOFFSETFROM:-0600
TZOFFSETTO:-0500
END:DAYLIGHT
BEGIN:STANDARD
DTSTART:20251102T020000Z
TZOFFSETFROM:-0500
TZOFFSETTO:-0600
END:STANDARD
END:VTIMEZONE
BEGIN:VTIMEZONE
TZID:UTC
BEGIN:STANDARD
DTSTART:20250727T035812Z
TZOFFSETFROM:+0000
TZOFFSETTO:+0000
END:STANDARD
END:VTIMEZONE
BEGIN:VEVENT
UID:14762-65
DTSTAMP:20260423T035812Z
SUMMARY:SKCC | Slow Speed Saunter
LOCATION:
ORGANIZER;CN=admin:MAILTO:support@data2cash.com
DTSTART;TZID=America/Chicago:20250701T000000
DTEND;TZID=America/Chicago:20250701T010000
X-ALT-DESC;FMTTYPE=TEXT/HTML:- Jul 1: Slow Speed Saunter (24 hrs\; start Tu
 e 00:00 UTC = Mon evening &amp;amp\; Tue US) https://skccgroup.com/
CATEGORIES:Events
URL;VALUE=URI:https://larryslist.info/mc-events/skcc-slow-speed-saunter/
METHOD:PUBLISH
END:VEVENT
END:VCALENDAR