BEGIN:VCALENDAR
VERSION:2.0
PRODID:spatie/icalendar-generator
DESCRIPTION:Events from Welcome to Larry's List
X-WR-CALDESC:Events from Welcome to Larry's List
REFRESH-INTERVAL;VALUE=DURATION:PT1440M
X-PUBLISHED-TTL:PT1440M
BEGIN:VTIMEZONE
TZID:America/Chicago
BEGIN:DAYLIGHT
DTSTART:20250309T020000Z
TZOFFSETFROM:-0600
TZOFFSETTO:-0500
END:DAYLIGHT
BEGIN:STANDARD
DTSTART:20251102T020000Z
TZOFFSETFROM:-0500
TZOFFSETTO:-0600
END:STANDARD
END:VTIMEZONE
BEGIN:VTIMEZONE
TZID:UTC
BEGIN:STANDARD
DTSTART:20250726T014127Z
TZOFFSETFROM:+0000
TZOFFSETTO:+0000
END:STANDARD
END:VTIMEZONE
BEGIN:VEVENT
UID:5793-25
DTSTAMP:20260422T014127Z
SUMMARY:Kansas City Blind ARC 2 Meter FM
LOCATION:Shrine | 145.130 (+) PL 151.4
ORGANIZER;CN=admin:MAILTO:support@data2cash.com
RRULE:FREQ=WEEKLY;COUNT=0
DTSTART;TZID=America/Chicago:20250804T200000
DTEND;TZID=America/Chicago:20250804T203000
X-ALT-DESC;FMTTYPE=TEXT/HTML:
CATEGORIES:NETs
URL;VALUE=URI:https://larryslist.info/mc-events/kansas-city-blind-arc-2-met
 er-fm/?mc_id=5793
METHOD:PUBLISH
END:VEVENT
END:VCALENDAR